BEGIN:VCALENDAR
PRODID:-//dvv-bw.de//dvv.Portalplattform//DE
VERSION:2.0
METHOD:PUBLISH
BEGIN:VEVENT
DTSTART:20261112T140000Z
DTEND:20261112T160000Z
DTSTAMP:20260421T134444Z
UID:57744454-57744454-1794438000000
SUMMARY:Führung "Literatencafés und Künstlerkneipen"
LOCATION:Innenstadt\, Marktplatz / Hauptstraße\, 77694 Kehl
DESCRIPTION:Der Gästeführer führt Sie auf den Spuren berühmter Persönlichkeiten zu einer kulinarisch-literarischen Erkundungstour durch die Altstadt Straßburgs.
CLASS:PUBLIC
X-ALT-DESC;FMTTYPE=text/html:Der Gästeführer führt Sie auf den Spuren berühmter Persönlichkeiten zu einer kulinarisch-literarischen Erkundungstour durch die Altstadt Straßburgs.
END:VEVENT
END:VCALENDAR
