BEGIN:VCALENDAR
PRODID:-//dvv-bw.de//dvv.Portalplattform//DE
VERSION:2.0
METHOD:PUBLISH
BEGIN:VEVENT
DTSTART:20260910T160000Z
DTEND:20260910T180000Z
DTSTAMP:20260421T154423Z
UID:57744409-57744409-1788991200000
SUMMARY:Führung "Straßburg La Neustadt"
LOCATION:Innenstadt\, Marktplatz / Hauptstraße\, 77694 Kehl
DESCRIPTION:Unmittelbar nach dem Krieg 1870/71 haben überwiegend deutsche Architekten das Viertel neu und modern aufgebaut.
CLASS:PUBLIC
X-ALT-DESC;FMTTYPE=text/html:Unmittelbar nach dem Krieg 1870/71 haben überwiegend deutsche Architekten das Viertel neu und modern aufgebaut.
END:VEVENT
END:VCALENDAR
