BEGIN:VCALENDAR
PRODID:-//dvv-bw.de//dvv.Portalplattform//DE
VERSION:2.0
METHOD:PUBLISH
BEGIN:VEVENT
DTSTART:20261119T133000Z
DTEND:20261119T153000Z
DTSTAMP:20260421T185545Z
UID:57744458-57744458-1795042800000
SUMMARY:Führung "Straßburg auf Elsässisch"
LOCATION:Innenstadt\, Marktplatz / Hauptstraße\, 77694 Kehl
DESCRIPTION:Begeben Sie sich in Begleitung eines Gästeführers in traditioneller elsässischer Tracht auf einen spannenden historischen Rundgang.
CLASS:PUBLIC
X-ALT-DESC;FMTTYPE=text/html:Begeben Sie sich in Begleitung eines Gästeführers in traditioneller elsässischer Tracht auf einen spannenden historischen Rundgang.
END:VEVENT
END:VCALENDAR
