BEGIN:VCALENDAR
PRODID:-//dvv-bw.de//dvv.Portalplattform//DE
VERSION:2.0
METHOD:PUBLISH
BEGIN:VEVENT
DTSTART:20261202T150000Z
DTEND:20261202T170000Z
DTSTAMP:20260420T162845Z
UID:57744466-57744466-1796166000000
SUMMARY:Garten//Jardin - CaféKuchen
LOCATION:Passerelle des deux Rives (Mimrambrücke)\, Rheinvorland\, 77694 Kehl
DESCRIPTION:Traditionelles monatlichen Treffen CaféKuchen auf der Passerelle.Traditionnelle rencontre mensuelle CaféKuchen sur la Passerelle.
CLASS:PUBLIC
X-ALT-DESC;FMTTYPE=text/html:Traditionelles monatlichen Treffen CaféKuchen auf der Passerelle.Traditionnelle rencontre mensuelle CaféKuchen sur la Passerelle.
END:VEVENT
END:VCALENDAR
