BEGIN:VCALENDAR
PRODID:-//dvv-bw.de//dvv.Portalplattform//DE
VERSION:2.0
METHOD:PUBLISH
BEGIN:VEVENT
DTSTART:20260926T170000Z
DTEND:20260926T190000Z
DTSTAMP:20260420T201250Z
UID:57744417-57744417-1790373600000
SUMMARY:Männer und andere Irrtümer
LOCATION:Theaterwelt\, Römerstr. 82\, 77694 Kehl-Goldscheuer
DESCRIPTION:Komödie von Michèle Bernier & Marie Pascale OsterriethDeutsch von Manfred Langner
CLASS:PUBLIC
X-ALT-DESC;FMTTYPE=text/html:Komödie von Michèle Bernier & Marie Pascale OsterriethDeutsch von Manfred Langner
END:VEVENT
END:VCALENDAR
