BEGIN:VCALENDAR
PRODID:-//dvv-bw.de//dvv.Portalplattform//DE
VERSION:2.0
METHOD:PUBLISH
BEGIN:VEVENT
DTSTART:20261002T170000Z
DTEND:20261002T190000Z
DTSTAMP:20260420T214637Z
UID:57744423-57744423-1790892000000
SUMMARY:Männer und andere Irrtümer
LOCATION:Theaterwelt\, Römerstr. 82\, 77694 Kehl-Goldscheuer
DESCRIPTION:Komödie von Michèle Bernier & Marie Pascale OsterriethDeutsch von Manfred Langner
CLASS:PUBLIC
X-ALT-DESC;FMTTYPE=text/html:Komödie von Michèle Bernier & Marie Pascale OsterriethDeutsch von Manfred Langner
END:VEVENT
END:VCALENDAR
