BEGIN:VCALENDAR
PRODID:-//dvv-bw.de//dvv.Portalplattform//DE
VERSION:2.0
METHOD:PUBLISH
BEGIN:VEVENT
DTSTART:20261114T133000Z
DTEND:20261114T153000Z
DTSTAMP:20260420T175939Z
UID:57744456-57744456-1794610800000
SUMMARY:Spieletreff im Kulturhaus
LOCATION:Das Kulturhaus.\, Am Läger 12\, 77694 Kehl
DESCRIPTION:Einmal im Monat samstags kann zwischen 14.30 Uhr und 19 Uhr auf drei Etagen des Kulturhauses nach Herzenslust gespielt werden.
CLASS:PUBLIC
X-ALT-DESC;FMTTYPE=text/html:Einmal im Monat samstags kann zwischen 14.30 Uhr und 19 Uhr auf drei Etagen des Kulturhauses nach Herzenslust gespielt werden.
END:VEVENT
END:VCALENDAR
