BEGIN:VCALENDAR
PRODID:-//dvv-bw.de//dvv.Portalplattform//DE
VERSION:2.0
METHOD:PUBLISH
BEGIN:VEVENT
DTSTART:20261019T160000Z
DTEND:20261019T180000Z
DTSTAMP:20260420T214417Z
UID:57744439-57744439-1792360800000
SUMMARY:Vereinstreffen der Kehler Vereine
LOCATION:Das Kulturhaus.\, Am Läger 12\, 77694 Kehl
DESCRIPTION:Alle Vereine der Stadt Kehl und Ortschaften treffen sich zweimal pro Jahr, um sich auszutauschen.
CLASS:PUBLIC
X-ALT-DESC;FMTTYPE=text/html:Alle Vereine der Stadt Kehl und Ortschaften treffen sich zweimal pro Jahr, um sich auszutauschen.
END:VEVENT
END:VCALENDAR
