BEGIN:VCALENDAR
PRODID:-//dvv-bw.de//dvv.Portalplattform//DE
VERSION:2.0
METHOD:PUBLISH
BEGIN:VEVENT
DTSTART:20260905T050000Z
DTEND:20260905T070000Z
DTSTAMP:20260419T203945Z
UID:57744407-57744407-1788559200000
SUMMARY:Floh- und Trödelmarkt Kehl
LOCATION:Festplatz "Läger"
DESCRIPTION:Legendärer Floh- und Trödelmarkt auf dem Festplatz "Läger" direkt an der B28 in Kehl.
CLASS:PUBLIC
X-ALT-DESC;FMTTYPE=text/html:Legendärer Floh- und Trödelmarkt auf dem Festplatz "Läger" direkt an der B28 in Kehl.
END:VEVENT
END:VCALENDAR
